BEGIN:VCALENDAR
VERSION:2.0
PRODID:-//Plone.org//NONSGML plone.app.event//EN
X-WR-TIMEZONE:Europe/Berlin
BEGIN:VEVENT
SUMMARY:Seminario
DTSTART;TZID=Europe/Berlin:20260317T160000
DTEND;TZID=Europe/Berlin:20260317T170000
DTSTAMP:20260419T212947Z
UID:eb91b33b3e114b0d8850e26b32305491@plone6.unife.it:8059
CREATED:20260310T064050Z
DESCRIPTION:Detecting Light\, discovering how the Universe works: Photon D
 etectors from Fundamental Research to Daily Life\nSpeaker: Prof. Massimili
 ano Fiorini (INFN and University of Ferrara)
LAST-MODIFIED:20260310T064054Z
URL:https://fisica.unife.it/it/eventi/seminario-25
END:VEVENT
BEGIN:VTIMEZONE
TZID:Europe/Berlin
X-LIC-LOCATION:Europe/Berlin
BEGIN:STANDARD
DTSTART:20251026T020000
TZNAME:CET
TZOFFSETFROM:+0200
TZOFFSETTO:+0100
END:STANDARD
END:VTIMEZONE
END:VCALENDAR
